Package: GMRP Version: 1.35.0 Command: /home/biocbuild/bbs-3.21-bioc/R/bin/R CMD INSTALL GMRP StartedAt: 2025-02-18 15:14:49 -0500 (Tue, 18 Feb 2025) EndedAt: 2025-02-18 15:14:58 -0500 (Tue, 18 Feb 2025) EllapsedTime: 9.0 seconds RetCode: 0 Status: OK