Package: GMRP Version: 1.35.0 Command: /home/biocbuild/bbs-3.21-bioc/R/bin/R CMD build --keep-empty-dirs --no-resave-data GMRP StartedAt: 2025-02-19 17:27:43 -0500 (Wed, 19 Feb 2025) EndedAt: 2025-02-19 17:28:01 -0500 (Wed, 19 Feb 2025) EllapsedTime: 18.0 seconds RetCode: 0 Status: OK PackageFile: GMRP_1.35.0.tar.gz PackageFileSize: 897 KiB