Package: GMRP Version: 1.35.0 Command: rm -rf GMRP.buildbin-libdir && mkdir GMRP.buildbin-libdir && /Users/biocbuild/BBS/utils/build-universal.sh GMRP_1.35.0.tar.gz /Library/Frameworks/R.framework/Resources/bin/R GMRP.buildbin-libdir StartedAt: 2025-02-18 22:23:39 -0500 (Tue, 18 Feb 2025) EndedAt: 2025-02-18 22:23:44 -0500 (Tue, 18 Feb 2025) EllapsedTime: 5.1 seconds RetCode: 0 Status: OK PackageFile: GMRP_1.35.0.tgz PackageFileSize: 979 KiB