Package: GLAD Version: 2.71.0 Command: /Library/Frameworks/R.framework/Resources/bin/R CMD INSTALL GLAD StartedAt: 2025-02-19 15:03:51 -0500 (Wed, 19 Feb 2025) EndedAt: 2025-02-19 15:04:38 -0500 (Wed, 19 Feb 2025) EllapsedTime: 46.8 seconds RetCode: 1 Status: ERROR