Package: GGPA Version: 1.19.0 Command: rm -rf GGPA.buildbin-libdir && mkdir GGPA.buildbin-libdir && E:\biocbuild\bbs-3.21-bioc\R\bin\R.exe CMD INSTALL --build --library=GGPA.buildbin-libdir GGPA_1.19.0.tar.gz StartedAt: 2025-02-21 08:12:33 -0500 (Fri, 21 Feb 2025) EndedAt: 2025-02-21 08:13:29 -0500 (Fri, 21 Feb 2025) EllapsedTime: 55.5 seconds RetCode: 0 Status: OK PackageFile: GGPA_1.19.0.zip PackageFileSize: 3.062 MiB