Package: GGPA Version: 1.19.0 Command: rm -rf GGPA.buildbin-libdir && mkdir GGPA.buildbin-libdir && /Users/biocbuild/BBS/utils/build-universal.sh GGPA_1.19.0.tar.gz /Library/Frameworks/R.framework/Resources/bin/R GGPA.buildbin-libdir StartedAt: 2025-02-21 00:33:18 -0500 (Fri, 21 Feb 2025) EndedAt: 2025-02-21 00:33:59 -0500 (Fri, 21 Feb 2025) EllapsedTime: 40.6 seconds RetCode: 0 Status: OK PackageFile: GGPA_1.19.0.tgz PackageFileSize: 2.871 MiB