Package: GGPA Version: 1.19.0 Command: /Library/Frameworks/R.framework/Resources/bin/R CMD check --install=check:GGPA.install-out.txt --library=/Library/Frameworks/R.framework/Resources/library --no-vignettes --timings GGPA_1.19.0.tar.gz StartedAt: 2025-02-20 19:31:07 -0500 (Thu, 20 Feb 2025) EndedAt: 2025-02-20 19:32:19 -0500 (Thu, 20 Feb 2025) EllapsedTime: 72.1 seconds RetCode: 0 Status: WARNINGS CheckDir: GGPA.Rcheck Warnings: 1