Package: GEOsubmission Version: 1.59.0 Command: /Library/Frameworks/R.framework/Resources/bin/R CMD build --keep-empty-dirs --no-resave-data GEOsubmission StartedAt: 2025-02-19 16:49:53 -0500 (Wed, 19 Feb 2025) EndedAt: 2025-02-19 16:50:04 -0500 (Wed, 19 Feb 2025) EllapsedTime: 11.4 seconds RetCode: 0 Status: OK PackageFile: GEOsubmission_1.59.0.tar.gz PackageFileSize: 192.4 KiB