Package: GEOquery Version: 2.75.0 Command: chmod a+r GEOquery -R && E:\biocbuild\bbs-3.21-bioc\R\bin\R.exe CMD build --keep-empty-dirs --no-resave-data GEOquery StartedAt: 2025-02-19 18:58:24 -0500 (Wed, 19 Feb 2025) EndedAt: 2025-02-19 18:59:54 -0500 (Wed, 19 Feb 2025) EllapsedTime: 89.9 seconds RetCode: 0 Status: OK PackageFile: GEOquery_2.75.0.tar.gz PackageFileSize: 13.07 MiB