Package: GEOquery Version: 2.75.0 Command: /home/biocbuild/bbs-3.21-bioc/R/bin/R CMD check --install=check:GEOquery.install-out.txt --library=/home/biocbuild/bbs-3.21-bioc/R/site-library --timings GEOquery_2.75.0.tar.gz StartedAt: 2025-02-19 22:38:59 -0500 (Wed, 19 Feb 2025) EndedAt: 2025-02-19 22:55:11 -0500 (Wed, 19 Feb 2025) EllapsedTime: 971.5 seconds RetCode: 0 Status: OK CheckDir: GEOquery.Rcheck Warnings: 0