Package: GEOquery Version: 2.75.0 Command: /Library/Frameworks/R.framework/Resources/bin/R CMD check --install=check:GEOquery.install-out.txt --library=/Library/Frameworks/R.framework/Resources/library --no-vignettes --timings GEOquery_2.75.0.tar.gz StartedAt: 2025-02-18 20:37:13 -0500 (Tue, 18 Feb 2025) EndedAt: 2025-02-18 20:43:15 -0500 (Tue, 18 Feb 2025) EllapsedTime: 362.5 seconds RetCode: 0 Status: OK CheckDir: GEOquery.Rcheck Warnings: 0