Package: GEOquery Version: 2.75.0 Command: /Library/Frameworks/R.framework/Resources/bin/R CMD build --keep-empty-dirs --no-resave-data GEOquery StartedAt: 2025-02-19 16:49:52 -0500 (Wed, 19 Feb 2025) EndedAt: 2025-02-19 16:50:57 -0500 (Wed, 19 Feb 2025) EllapsedTime: 64.6 seconds RetCode: 0 Status: OK PackageFile: GEOquery_2.75.0.tar.gz PackageFileSize: 13.07 MiB