Package: GEOquery Version: 2.75.0 Command: /Library/Frameworks/R.framework/Resources/bin/R CMD INSTALL GEOquery StartedAt: 2025-02-19 15:04:36 -0500 (Wed, 19 Feb 2025) EndedAt: 2025-02-19 15:04:47 -0500 (Wed, 19 Feb 2025) EllapsedTime: 10.4 seconds RetCode: 0 Status: OK