Package: GEOquery Version: 2.75.0 Command: /Library/Frameworks/R.framework/Resources/bin/R CMD check --install=check:GEOquery.install-out.txt --library=/Library/Frameworks/R.framework/Resources/library --no-vignettes --timings GEOquery_2.75.0.tar.gz StartedAt: 2025-02-19 19:30:55 -0500 (Wed, 19 Feb 2025) EndedAt: 2025-02-19 19:33:48 -0500 (Wed, 19 Feb 2025) EllapsedTime: 173.0 seconds RetCode: 0 Status: OK CheckDir: GEOquery.Rcheck Warnings: 0