Package: GEOmetadb Version: 1.69.2 Command: chmod a+r GEOmetadb -R && E:\biocbuild\bbs-3.21-bioc\R\bin\R.exe CMD build --keep-empty-dirs --no-resave-data GEOmetadb StartedAt: 2025-02-20 19:00:07 -0500 (Thu, 20 Feb 2025) EndedAt: 2025-02-20 19:00:41 -0500 (Thu, 20 Feb 2025) EllapsedTime: 34.7 seconds RetCode: 0 Status: OK PackageFile: GEOmetadb_1.69.2.tar.gz PackageFileSize: 20.34 MiB