Package: GEOmetadb Version: 1.69.2 Command: /home/biocbuild/bbs-3.21-bioc/R/bin/R CMD INSTALL GEOmetadb StartedAt: 2025-02-20 15:06:06 -0500 (Thu, 20 Feb 2025) EndedAt: 2025-02-20 15:06:09 -0500 (Thu, 20 Feb 2025) EllapsedTime: 3.0 seconds RetCode: 0 Status: OK