Package: GEOmetadb Version: 1.69.2 Command: /home/biocbuild/bbs-3.21-bioc/R/bin/R CMD check --install=check:GEOmetadb.install-out.txt --library=/home/biocbuild/bbs-3.21-bioc/R/site-library --timings GEOmetadb_1.69.2.tar.gz StartedAt: 2025-02-20 22:20:55 -0500 (Thu, 20 Feb 2025) EndedAt: 2025-02-20 22:21:36 -0500 (Thu, 20 Feb 2025) EllapsedTime: 41.1 seconds RetCode: 0 Status: WARNINGS CheckDir: GEOmetadb.Rcheck Warnings: 1