Package: GEOmetadb Version: 1.69.2 Command: /home/biocbuild/bbs-3.21-bioc/R/bin/R CMD build --keep-empty-dirs --no-resave-data GEOmetadb StartedAt: 2025-02-20 17:35:37 -0500 (Thu, 20 Feb 2025) EndedAt: 2025-02-20 17:35:56 -0500 (Thu, 20 Feb 2025) EllapsedTime: 19.0 seconds RetCode: 0 Status: OK PackageFile: GEOmetadb_1.69.2.tar.gz PackageFileSize: 632.8 KiB