Package: GEOmetadb Version: 1.69.2 Command: /Library/Frameworks/R.framework/Resources/bin/R CMD INSTALL GEOmetadb StartedAt: 2025-02-20 15:07:04 -0500 (Thu, 20 Feb 2025) EndedAt: 2025-02-20 15:07:07 -0500 (Thu, 20 Feb 2025) EllapsedTime: 3.2 seconds RetCode: 0 Status: OK