Package: GEOfastq Version: 1.15.0 Command: /home/biocbuild/bbs-3.21-bioc/R/bin/R CMD INSTALL GEOfastq StartedAt: 2025-02-20 15:12:50 -0500 (Thu, 20 Feb 2025) EndedAt: 2025-02-20 15:12:51 -0500 (Thu, 20 Feb 2025) EllapsedTime: 1.5 seconds RetCode: 0 Status: OK