Package: GEOfastq Version: 1.15.0 Command: /home/biocbuild/bbs-3.21-bioc/R/bin/R CMD check --install=check:GEOfastq.install-out.txt --library=/home/biocbuild/bbs-3.21-bioc/R/site-library --timings GEOfastq_1.15.0.tar.gz StartedAt: 2025-02-20 22:20:46 -0500 (Thu, 20 Feb 2025) EndedAt: 2025-02-20 22:23:40 -0500 (Thu, 20 Feb 2025) EllapsedTime: 174.2 seconds RetCode: 0 Status: OK CheckDir: GEOfastq.Rcheck Warnings: 0