Package: GEOfastq Version: 1.15.0 Command: /Library/Frameworks/R.framework/Resources/bin/R CMD INSTALL GEOfastq StartedAt: 2025-02-20 15:07:46 -0500 (Thu, 20 Feb 2025) EndedAt: 2025-02-20 15:08:10 -0500 (Thu, 20 Feb 2025) EllapsedTime: 24.4 seconds RetCode: 0 Status: OK