Package: GEOfastq Version: 1.15.0 Command: /Library/Frameworks/R.framework/Resources/bin/R CMD check --install=check:GEOfastq.install-out.txt --library=/Library/Frameworks/R.framework/Resources/library --no-vignettes --timings GEOfastq_1.15.0.tar.gz StartedAt: 2025-02-20 20:41:03 -0500 (Thu, 20 Feb 2025) EndedAt: 2025-02-20 20:42:51 -0500 (Thu, 20 Feb 2025) EllapsedTime: 108.6 seconds RetCode: 0 Status: OK CheckDir: GEOfastq.Rcheck Warnings: 0