Package: GEOfastq Version: 1.15.0 Command: /Library/Frameworks/R.framework/Resources/bin/R CMD INSTALL GEOfastq StartedAt: 2025-02-21 15:03:59 -0500 (Fri, 21 Feb 2025) EndedAt: 2025-02-21 15:04:01 -0500 (Fri, 21 Feb 2025) EllapsedTime: 1.8 seconds RetCode: 0 Status: OK