Package: GEOfastq Version: 1.15.0 Command: /Library/Frameworks/R.framework/Resources/bin/R CMD build --keep-empty-dirs --no-resave-data GEOfastq StartedAt: 2025-02-21 16:27:01 -0500 (Fri, 21 Feb 2025) EndedAt: 2025-02-21 16:27:08 -0500 (Fri, 21 Feb 2025) EllapsedTime: 7.1 seconds RetCode: 0 Status: OK PackageFile: GEOfastq_1.15.0.tar.gz PackageFileSize: 13.03 KiB