Package: GEOexplorer Version: 1.13.0 Command: /Library/Frameworks/R.framework/Resources/bin/R CMD build --keep-empty-dirs --no-resave-data GEOexplorer StartedAt: 2025-02-19 16:49:39 -0500 (Wed, 19 Feb 2025) EndedAt: 2025-02-19 16:50:45 -0500 (Wed, 19 Feb 2025) EllapsedTime: 66.1 seconds RetCode: 0 Status: OK PackageFile: GEOexplorer_1.13.0.tar.gz PackageFileSize: 11.26 MiB