Package: GENIE3 Version: 1.29.0 Command: /Library/Frameworks/R.framework/Resources/bin/R CMD INSTALL GENIE3 StartedAt: 2025-02-19 15:03:04 -0500 (Wed, 19 Feb 2025) EndedAt: 2025-02-19 15:03:11 -0500 (Wed, 19 Feb 2025) EllapsedTime: 7.1 seconds RetCode: 0 Status: OK