Package: GENIE3 Version: 1.29.0 Command: rm -rf GENIE3.buildbin-libdir && mkdir GENIE3.buildbin-libdir && /Users/biocbuild/BBS/utils/build-universal.sh GENIE3_1.29.0.tar.gz /Library/Frameworks/R.framework/Resources/bin/R GENIE3.buildbin-libdir StartedAt: 2025-02-19 22:23:13 -0500 (Wed, 19 Feb 2025) EndedAt: 2025-02-19 22:23:16 -0500 (Wed, 19 Feb 2025) EllapsedTime: 3.1 seconds RetCode: 0 Status: OK PackageFile: GENIE3_1.29.0.tgz PackageFileSize: 263.5 KiB