Package: GENESIS Version: 2.37.1 Command: chmod a+r GENESIS -R && E:\biocbuild\bbs-3.21-bioc\R\bin\R.exe CMD build --keep-empty-dirs --no-resave-data GENESIS StartedAt: 2025-02-20 18:55:34 -0500 (Thu, 20 Feb 2025) EndedAt: 2025-02-20 18:57:53 -0500 (Thu, 20 Feb 2025) EllapsedTime: 138.7 seconds RetCode: 0 Status: OK PackageFile: GENESIS_2.37.1.tar.gz PackageFileSize: 2.927 MiB