Package: GENESIS Version: 2.37.1 Command: rm -rf GENESIS.buildbin-libdir && mkdir GENESIS.buildbin-libdir && E:\biocbuild\bbs-3.21-bioc\R\bin\R.exe CMD INSTALL --build --library=GENESIS.buildbin-libdir GENESIS_2.37.1.tar.gz StartedAt: 2025-02-21 08:09:47 -0500 (Fri, 21 Feb 2025) EndedAt: 2025-02-21 08:10:56 -0500 (Fri, 21 Feb 2025) EllapsedTime: 68.6 seconds RetCode: 0 Status: OK PackageFile: GENESIS_2.37.1.zip PackageFileSize: 3.212 MiB