Package: GENESIS Version: 2.37.1 Command: /home/biocbuild/bbs-3.21-bioc/R/bin/R CMD build --keep-empty-dirs --no-resave-data GENESIS StartedAt: 2025-02-20 17:33:10 -0500 (Thu, 20 Feb 2025) EndedAt: 2025-02-20 17:34:50 -0500 (Thu, 20 Feb 2025) EllapsedTime: 100.1 seconds RetCode: 0 Status: OK PackageFile: GENESIS_2.37.1.tar.gz PackageFileSize: 3.814 MiB