Package: GENESIS Version: 2.37.1 Command: /Library/Frameworks/R.framework/Resources/bin/R CMD check --install=check:GENESIS.install-out.txt --library=/Library/Frameworks/R.framework/Resources/library --no-vignettes --timings GENESIS_2.37.1.tar.gz StartedAt: 2025-02-20 19:24:23 -0500 (Thu, 20 Feb 2025) EndedAt: 2025-02-20 19:26:34 -0500 (Thu, 20 Feb 2025) EllapsedTime: 130.5 seconds RetCode: 0 Status: OK CheckDir: GENESIS.Rcheck Warnings: 0