Package: GEM Version: 1.33.0 Command: rm -rf GEM.buildbin-libdir && mkdir GEM.buildbin-libdir && /Users/biocbuild/BBS/utils/build-universal.sh GEM_1.33.0.tar.gz /Library/Frameworks/R.framework/Resources/bin/R GEM.buildbin-libdir StartedAt: 2025-02-20 00:33:16 -0500 (Thu, 20 Feb 2025) EndedAt: 2025-02-20 00:33:30 -0500 (Thu, 20 Feb 2025) EllapsedTime: 14.0 seconds RetCode: 0 Status: OK PackageFile: GEM_1.33.0.tgz PackageFileSize: 896.7 KiB