Package: GDSArray Version: 1.27.1 Command: E:\biocbuild\bbs-3.21-bioc\R\bin\R.exe CMD INSTALL GDSArray StartedAt: 2025-02-20 15:51:14 -0500 (Thu, 20 Feb 2025) EndedAt: 2025-02-20 15:51:46 -0500 (Thu, 20 Feb 2025) EllapsedTime: 31.4 seconds RetCode: 0 Status: OK