Package: GDSArray Version: 1.27.1 Command: chmod a+r GDSArray -R && E:\biocbuild\bbs-3.21-bioc\R\bin\R.exe CMD build --keep-empty-dirs --no-resave-data GDSArray StartedAt: 2025-02-20 18:53:26 -0500 (Thu, 20 Feb 2025) EndedAt: 2025-02-20 18:54:09 -0500 (Thu, 20 Feb 2025) EllapsedTime: 43.5 seconds RetCode: 0 Status: OK PackageFile: GDSArray_1.27.1.tar.gz PackageFileSize: 305.8 KiB