Package: GDSArray Version: 1.27.1 Command: /Library/Frameworks/R.framework/Resources/bin/R CMD build --keep-empty-dirs --no-resave-data GDSArray StartedAt: 2025-02-20 16:45:36 -0500 (Thu, 20 Feb 2025) EndedAt: 2025-02-20 16:46:10 -0500 (Thu, 20 Feb 2025) EllapsedTime: 34.3 seconds RetCode: 0 Status: OK PackageFile: GDSArray_1.27.1.tar.gz PackageFileSize: 305.6 KiB