Package: GDSArray Version: 1.27.1 Command: /Library/Frameworks/R.framework/Resources/bin/R CMD INSTALL GDSArray StartedAt: 2025-02-20 15:04:55 -0500 (Thu, 20 Feb 2025) EndedAt: 2025-02-20 15:05:02 -0500 (Thu, 20 Feb 2025) EllapsedTime: 7.0 seconds RetCode: 0 Status: OK