Package: GDSArray Version: 1.27.1 Command: /Library/Frameworks/R.framework/Resources/bin/R CMD check --install=check:GDSArray.install-out.txt --library=/Library/Frameworks/R.framework/Resources/library --no-vignettes --timings GDSArray_1.27.1.tar.gz StartedAt: 2025-02-20 19:22:36 -0500 (Thu, 20 Feb 2025) EndedAt: 2025-02-20 19:23:23 -0500 (Thu, 20 Feb 2025) EllapsedTime: 47.6 seconds RetCode: 0 Status: WARNINGS CheckDir: GDSArray.Rcheck Warnings: 2