Package: GDSArray Version: 1.27.1 Command: rm -rf GDSArray.buildbin-libdir && mkdir GDSArray.buildbin-libdir && /Users/biocbuild/BBS/utils/build-universal.sh GDSArray_1.27.1.tar.gz /Library/Frameworks/R.framework/Resources/bin/R GDSArray.buildbin-libdir StartedAt: 2025-02-20 22:19:46 -0500 (Thu, 20 Feb 2025) EndedAt: 2025-02-20 22:19:54 -0500 (Thu, 20 Feb 2025) EllapsedTime: 8.2 seconds RetCode: 0 Status: OK PackageFile: GDSArray_1.27.1.tgz PackageFileSize: 667.2 KiB