Package: GDCRNATools Version: 1.27.0 Command: E:\biocbuild\bbs-3.21-bioc\R\bin\R.exe CMD check --no-multiarch --install=check:GDCRNATools.install-out.txt --library=E:\biocbuild\bbs-3.21-bioc\R\library --no-vignettes --timings GDCRNATools_1.27.0.tar.gz StartedAt: 2025-02-21 01:34:04 -0500 (Fri, 21 Feb 2025) EndedAt: 2025-02-21 01:40:45 -0500 (Fri, 21 Feb 2025) EllapsedTime: 401.0 seconds RetCode: 0 Status: OK CheckDir: GDCRNATools.Rcheck Warnings: 0