Package: GDCRNATools Version: 1.27.0 Command: /Library/Frameworks/R.framework/Resources/bin/R CMD check --install=check:GDCRNATools.install-out.txt --library=/Library/Frameworks/R.framework/Resources/library --no-vignettes --timings GDCRNATools_1.27.0.tar.gz StartedAt: 2025-02-20 20:33:25 -0500 (Thu, 20 Feb 2025) EndedAt: 2025-02-20 20:39:56 -0500 (Thu, 20 Feb 2025) EllapsedTime: 390.8 seconds RetCode: 0 Status: OK CheckDir: GDCRNATools.Rcheck Warnings: 0