Package: GDCRNATools Version: 1.27.0 Command: rm -rf GDCRNATools.buildbin-libdir && mkdir GDCRNATools.buildbin-libdir && /Users/biocbuild/BBS/utils/build-universal.sh GDCRNATools_1.27.0.tar.gz /Library/Frameworks/R.framework/Resources/bin/R GDCRNATools.buildbin-libdir StartedAt: 2025-02-21 00:31:49 -0500 (Fri, 21 Feb 2025) EndedAt: 2025-02-21 00:33:09 -0500 (Fri, 21 Feb 2025) EllapsedTime: 79.7 seconds RetCode: 0 Status: OK PackageFile: GDCRNATools_1.27.0.tgz PackageFileSize: 3.369 MiB