Package: GBScleanR Version: 2.1.3 Command: E:\biocbuild\bbs-3.21-bioc\R\bin\R.exe CMD check --no-multiarch --install=check:GBScleanR.install-out.txt --library=E:\biocbuild\bbs-3.21-bioc\R\library --no-vignettes --timings GBScleanR_2.1.3.tar.gz StartedAt: 2025-02-21 01:32:43 -0500 (Fri, 21 Feb 2025) EndedAt: 2025-02-21 01:36:55 -0500 (Fri, 21 Feb 2025) EllapsedTime: 251.8 seconds RetCode: 0 Status: OK CheckDir: GBScleanR.Rcheck Warnings: 0