Package: GBScleanR Version: 2.1.3 Command: chmod a+r GBScleanR -R && E:\biocbuild\bbs-3.21-bioc\R\bin\R.exe CMD build --keep-empty-dirs --no-resave-data GBScleanR StartedAt: 2025-02-20 18:52:14 -0500 (Thu, 20 Feb 2025) EndedAt: 2025-02-20 18:55:02 -0500 (Thu, 20 Feb 2025) EllapsedTime: 167.6 seconds RetCode: 0 Status: OK PackageFile: GBScleanR_2.1.3.tar.gz PackageFileSize: 1.006 MiB