Package: GBScleanR Version: 2.1.3 Command: rm -rf GBScleanR.buildbin-libdir && mkdir GBScleanR.buildbin-libdir && E:\biocbuild\bbs-3.21-bioc\R\bin\R.exe CMD INSTALL --build --library=GBScleanR.buildbin-libdir GBScleanR_2.1.3.tar.gz StartedAt: 2025-02-21 08:08:10 -0500 (Fri, 21 Feb 2025) EndedAt: 2025-02-21 08:10:26 -0500 (Fri, 21 Feb 2025) EllapsedTime: 136.5 seconds RetCode: 0 Status: OK PackageFile: GBScleanR_2.1.3.zip PackageFileSize: 1.962 MiB