Package: GBScleanR Version: 2.1.3 Command: /home/biocbuild/bbs-3.21-bioc/R/bin/R CMD INSTALL GBScleanR StartedAt: 2025-02-20 15:43:41 -0500 (Thu, 20 Feb 2025) EndedAt: 2025-02-20 15:44:28 -0500 (Thu, 20 Feb 2025) EllapsedTime: 47.6 seconds RetCode: 0 Status: OK