Package: GBScleanR Version: 2.1.1 Command: /home/biocbuild/R/R/bin/R CMD INSTALL GBScleanR StartedAt: 2025-01-29 19:39:12 -0000 (Wed, 29 Jan 2025) EndedAt: 2025-01-29 19:40:28 -0000 (Wed, 29 Jan 2025) EllapsedTime: 75.8 seconds RetCode: 0 Status: OK