Package: GAprediction Version: 1.33.0 Command: rm -rf GAprediction.buildbin-libdir && mkdir GAprediction.buildbin-libdir && E:\biocbuild\bbs-3.21-bioc\R\bin\R.exe CMD INSTALL --build --library=GAprediction.buildbin-libdir GAprediction_1.33.0.tar.gz StartedAt: 2025-02-21 08:08:01 -0500 (Fri, 21 Feb 2025) EndedAt: 2025-02-21 08:08:26 -0500 (Fri, 21 Feb 2025) EllapsedTime: 25.3 seconds RetCode: 0 Status: OK PackageFile: GAprediction_1.33.0.zip PackageFileSize: 883.4 KiB