Package: GAprediction Version: 1.33.0 Command: /home/biocbuild/bbs-3.21-bioc/R/bin/R CMD INSTALL GAprediction StartedAt: 2025-02-20 15:09:03 -0500 (Thu, 20 Feb 2025) EndedAt: 2025-02-20 15:09:12 -0500 (Thu, 20 Feb 2025) EllapsedTime: 9.5 seconds RetCode: 0 Status: OK