Package: GAprediction Version: 1.33.0 Command: /home/biocbuild/bbs-3.21-bioc/R/bin/R CMD check --install=check:GAprediction.install-out.txt --library=/home/biocbuild/bbs-3.21-bioc/R/site-library --timings GAprediction_1.33.0.tar.gz StartedAt: 2025-02-20 22:06:53 -0500 (Thu, 20 Feb 2025) EndedAt: 2025-02-20 22:08:22 -0500 (Thu, 20 Feb 2025) EllapsedTime: 89.1 seconds RetCode: 0 Status: OK CheckDir: GAprediction.Rcheck Warnings: 0